BEGIN:VCALENDAR
VERSION:2.0
PRODID:icalendar-ruby
CALSCALE:GREGORIAN
METHOD:PUBLISH
BEGIN:VEVENT
DTSTAMP:20260423T174943Z
UID:21-701388@anglicanstrathroy.com
DTSTART:20260523T120000Z
DTEND:20260523T160000Z
CLASS:PUBLIC
CREATED:20260414T135513
DESCRIPTION:St.  John's is participating in the town wide garage sale.  C
 ome and join us on the front lawn for great bargains in the Parish Hall. 
  See you there!
LAST-MODIFIED:20260414T135513
LOCATION:St. John the Evangelist Church\, 34 Head Street N.\, Strathroy\, O
 N
SUMMARY:Town Wide Garage Sale
URL;VALUE=URI:https://www.anglicanstrathroy.com/events/town-wide-garage-sal
 e--21/2026-05-23
ATTACH;FILENAME=town-wide-yard-sale.jpg;FMTTYPE=image/jpeg:https://dq5pwpg1
 q8ru0.cloudfront.net/2023/05/05/10/54/37/5bb04232-bdc1-4d76-88c4-e44df9bb3
 52f/town-wide-yard-sale.jpg
END:VEVENT
END:VCALENDAR
