BEGIN:VCALENDAR
VERSION:2.0
PRODID:icalendar-ruby
CALSCALE:GREGORIAN
METHOD:PUBLISH
BEGIN:VEVENT
DTSTAMP:20260424T161228Z
UID:9-730407@anglicanstrathroy.com
DTSTART:20261101T160000Z
DTEND:20261101T170000Z
CLASS:PUBLIC
CREATED:20260424T102104
DESCRIPTION:Sunday Worship
LAST-MODIFIED:20260424T102104
LOCATION:34 Head Street North\, Strathroy
SUMMARY:Sunday Worship
URL;VALUE=URI:https://www.anglicanstrathroy.com/events/sunday-worship/2026-
 11-01
END:VEVENT
END:VCALENDAR
