BEGIN:VCALENDAR
VERSION:2.0
PRODID:icalendar-ruby
CALSCALE:GREGORIAN
METHOD:PUBLISH
BEGIN:VEVENT
DTSTAMP:20260424T130104Z
UID:9-729920@anglicanstrathroy.com
DTSTART:20261018T150000Z
DTEND:20261018T160000Z
CLASS:PUBLIC
CREATED:20260424T072714
DESCRIPTION:Sunday Worship
LAST-MODIFIED:20260424T072714
LOCATION:34 Head Street North\, Strathroy
SUMMARY:Sunday Worship
URL;VALUE=URI:https://www.anglicanstrathroy.com/events/sunday-worship/2026-
 10-18
END:VEVENT
END:VCALENDAR
