BEGIN:VCALENDAR
VERSION:2.0
PRODID:icalendar-ruby
CALSCALE:GREGORIAN
METHOD:PUBLISH
BEGIN:VEVENT
DTSTAMP:20260424T032243Z
UID:9-729429@anglicanstrathroy.com
DTSTART:20260906T150000Z
DTEND:20260906T160000Z
CLASS:PUBLIC
CREATED:20260423T215846
DESCRIPTION:Sunday Worship
LAST-MODIFIED:20260423T215846
LOCATION:34 Head Street North\, Strathroy
SUMMARY:Sunday Worship
URL;VALUE=URI:https://www.anglicanstrathroy.com/events/sunday-worship/2026-
 09-06
END:VEVENT
END:VCALENDAR
