BEGIN:VCALENDAR
VERSION:2.0
PRODID:icalendar-ruby
CALSCALE:GREGORIAN
METHOD:PUBLISH
BEGIN:VEVENT
DTSTAMP:20260424T013924Z
UID:9-728943@anglicanstrathroy.com
DTSTART:20260830T150000Z
DTEND:20260830T160000Z
CLASS:PUBLIC
CREATED:20260423T190528
DESCRIPTION:Sunday Worship
LAST-MODIFIED:20260423T190528
LOCATION:34 Head Street North\, Strathroy
SUMMARY:Sunday Worship
URL;VALUE=URI:https://www.anglicanstrathroy.com/events/sunday-worship/2026-
 08-30
END:VEVENT
END:VCALENDAR
