BEGIN:VCALENDAR
VERSION:2.0
PRODID:icalendar-ruby
CALSCALE:GREGORIAN
METHOD:PUBLISH
BEGIN:VEVENT
DTSTAMP:20260423T222936Z
UID:9-728456@anglicanstrathroy.com
DTSTART:20260816T150000Z
DTEND:20260816T160000Z
CLASS:PUBLIC
CREATED:20260423T161128
DESCRIPTION:Sunday Worship
LAST-MODIFIED:20260423T161128
LOCATION:34 Head Street North\, Strathroy
SUMMARY:Sunday Worship
URL;VALUE=URI:https://www.anglicanstrathroy.com/events/sunday-worship/2026-
 08-16
END:VEVENT
END:VCALENDAR
