BEGIN:VCALENDAR
VERSION:2.0
PRODID:icalendar-ruby
CALSCALE:GREGORIAN
METHOD:PUBLISH
BEGIN:VEVENT
DTSTAMP:20260423T174540Z
UID:28-701391@anglicanstrathroy.com
DTSTART:20260628T190000Z
DTEND:20260628T200000Z
CLASS:PUBLIC
CREATED:20260414T141521
DESCRIPTION:Please join us for the annual Decoration Day Service.  This pi
 oneer church is the oldest remaining in Middlesex County\, constructed in 
 1841.
LAST-MODIFIED:20260414T141521
LOCATION:1361-1479 Melwood Dr\, Strathroy\, ON N7G 3H5
SUMMARY:St. Mary's Napier Annual Decoration Day Service
URL;VALUE=URI:https://www.anglicanstrathroy.com/events/st-marys-napier-annu
 al-decoration-day-service/2026-06-28
ATTACH;FILENAME=St.-Mary%27s-Napier-image.png;FMTTYPE=image/png:https://dq5
 pwpg1q8ru0.cloudfront.net/2025/04/22/19/51/26/2cbfa8f3-5bef-4593-96eb-e2cd
 77150950/St.-Mary%2527s-Napier-image.png
END:VEVENT
END:VCALENDAR
