BEGIN:VCALENDAR
VERSION:2.0
PRODID:icalendar-ruby
CALSCALE:GREGORIAN
METHOD:PUBLISH
BEGIN:VEVENT
DTSTAMP:20260423T174525Z
UID:29-701389@anglicanstrathroy.com
DTSTART:20260607T190000Z
DTEND:20260607T200000Z
CLASS:PUBLIC
CREATED:20260414T141351
DESCRIPTION:Please join us for the annual Memorial  Service at St. Ann's A
 delaide.  This will be an outdoor service.  Please bring a lawn chair an
 d sun hat.
LAST-MODIFIED:20260414T141351
LOCATION:2276 Egremont Drive\, Strathroy\, Ontario\, N7G 3H6
SUMMARY:St. Ann's Adelaide Memorial Service
URL;VALUE=URI:https://www.anglicanstrathroy.com/events/st-anns-adelaide-mem
 orial-service/2026-06-07
ATTACH;FILENAME=St.-Ann%27s.gif;FMTTYPE=image/gif:https://dq5pwpg1q8ru0.clo
 udfront.net/2023/06/02/09/00/33/248414fb-0840-4772-90c6-8bc2c87e2ba8/St.-A
 nn%2527s.gif
END:VEVENT
END:VCALENDAR
